BEGIN:VCALENDAR
VERSION:2.0
PRODID:-//Sigmaringen erleben - ECPv4.4.5//NONSGML v1.0//EN
CALSCALE:GREGORIAN
METHOD:PUBLISH
X-WR-CALNAME:Sigmaringen erleben
X-ORIGINAL-URL:http://sigmaringen-erleben.de
X-WR-CALDESC:Events for Sigmaringen erleben
BEGIN:VEVENT
DTSTART;VALUE=DATE:20170507
DTEND;VALUE=DATE:20170507
DTSTAMP:20260419T152046
CREATED:20170407T120953Z
LAST-MODIFIED:20170407T183739Z
UID:824-1494115200-1494201599@sigmaringen-erleben.de
SUMMARY:SWR1 lacht: Baden-Württemberg macht Spaß
DESCRIPTION:Comedyfestival auf dem Festplatz bei der Stadthalle Sigmaringen (ausverkauft)\nBereits nun zum 10. Mal macht das Comedy- und Kabarett-Festival „SWR1 lacht: Baden-Württemberg macht Spaß!“ in Sigmaringen Station. Am Sonntag\, 7. Mai 2017 werden wieder 4 Künstler auf zwei Bühnen auftreten. Zwischen den Auftritten ist überall zeitgleich eine Pause und der Zuschauer kann zur nächsten Bühne und damit zum nächsten Künstler wechseln. Da auf 2 Bühnen gespielt wird\, kann der Besucher alle vier Künstler anschauen und miterleben. Da in diesem Jahr das Festival mit Michael Mittermeier so früh wie noch nie ausverkauft war\, hat man sich dazu entschlossen\, den Comedystar Michael Mittermeier für das Festival in 2017 nochmals einzuladen. Doch auch die drei weiteren Künstlern sorgen dafür\, dass die Lachmuskeln aufs äußerste strapaziert werden: Ernst und Heinrich\, Heinrich del Core sowie das badische Chaos Duo Oropax.\nFoto: Oropax
URL:http://sigmaringen-erleben.de/event/swr1-lacht-baden-wuerttemberg-macht-spass/
LOCATION:Sigmaringen\, 72488 \, Deutschland
ATTACH;FMTTYPE=image/jpeg:http://sigmaringen-erleben.de/wp-content/uploads/2017/04/oropax.jpg
END:VEVENT
END:VCALENDAR